BEGIN:VCALENDAR
VERSION:2.0
PRODID:-//MyCalendarApp//EN
BEGIN:VEVENT
UID:event-7736@mycalendarapp
DTSTAMP:20260420T052753Z
DTSTART;VALUE=DATE:20260930
DTEND;VALUE=DATE:20261001
SUMMARY:Johnny Be Good 2 Эпизод
DESCRIPTION:\nИсточник: https://gmrpg.ru/calendar/event/ics?id=7736
URL:
END:VEVENT
END:VCALENDAR
