BEGIN:VCALENDAR
VERSION:2.0
PRODID:-//MyCalendarApp//EN
BEGIN:VEVENT
UID:event-7738@mycalendarapp
DTSTAMP:20260420T052743Z
DTSTART;VALUE=DATE:20261016
DTEND;VALUE=DATE:20261019
SUMMARY:Johnny Be Good Финальный эпизод
DESCRIPTION:\nИсточник: https://gmrpg.ru/calendar/event/ics?id=7738
URL:https://vk.com/johnny_be_good_2026
END:VEVENT
END:VCALENDAR
